BEGIN:VCALENDAR
VERSION:2.0
PRODID:-//Athénée Royal de Jodoigne - ECPv6.10.1.1//NONSGML v1.0//EN
CALSCALE:GREGORIAN
METHOD:PUBLISH
X-WR-CALNAME:Athénée Royal de Jodoigne
X-ORIGINAL-URL:https://arjodoigne.be
X-WR-CALDESC:Events for Athénée Royal de Jodoigne
REFRESH-INTERVAL;VALUE=DURATION:PT1H
X-Robots-Tag:noindex
X-PUBLISHED-TTL:PT1H
BEGIN:VTIMEZONE
TZID:UTC
BEGIN:STANDARD
TZOFFSETFROM:+0000
TZOFFSETTO:+0000
TZNAME:UTC
DTSTART:20260101T000000
END:STANDARD
END:VTIMEZONE
BEGIN:VEVENT
DTSTART;TZID=UTC:20260530T183000
DTEND;TZID=UTC:20260530T220000
DTSTAMP:20260420T050259
CREATED:20251017T123520Z
LAST-MODIFIED:20251017T123520Z
UID:6796-1780165800-1780178400@arjodoigne.be
SUMMARY:Pièce de théâtre et concours d'éloquence
DESCRIPTION:
URL:https://arjodoigne.be/evenement/piece-de-theatre-et-concours-deloquence/
CATEGORIES:Agenda
END:VEVENT
END:VCALENDAR