BEGIN:VCALENDAR
VERSION:2.0
PRODID:-//Athénée Royal de Jodoigne - ECPv6.10.1.1//NONSGML v1.0//EN
CALSCALE:GREGORIAN
METHOD:PUBLISH
X-ORIGINAL-URL:https://arjodoigne.be
X-WR-CALDESC:Events for Athénée Royal de Jodoigne
REFRESH-INTERVAL;VALUE=DURATION:PT1H
X-Robots-Tag:noindex
X-PUBLISHED-TTL:PT1H
BEGIN:VTIMEZONE
TZID:UTC
BEGIN:STANDARD
TZOFFSETFROM:+0000
TZOFFSETTO:+0000
TZNAME:UTC
DTSTART:20250101T000000
END:STANDARD
END:VTIMEZONE
BEGIN:VEVENT
DTSTART;TZID=UTC:20250127T160000
DTEND;TZID=UTC:20250127T190000
DTSTAMP:20260419T143023
CREATED:20241211T173112Z
LAST-MODIFIED:20241211T173838Z
UID:6335-1737993600-1738004400@arjodoigne.be
SUMMARY:Portes ouvertes et inscriptions premières
DESCRIPTION:Venez visiter l’école avec votre enfant les samedi 25 janvier 2025 et lundi 27 janvier 2025. \nBienvenue!
URL:https://arjodoigne.be/evenement/portes-ouvertes-et-inscriptions-premieres/
LOCATION:Athénée Royal de Jodoigne\, chaussée de Hannut 61\, Jodoigne\, 1370\, Belgium
CATEGORIES:Agenda
ATTACH;FMTTYPE=image/png:https://arjodoigne.be/wp-content/uploads/2024/12/portes-ouvertes-janvier.png
END:VEVENT
END:VCALENDAR