BEGIN:VCALENDAR
VERSION:2.0
PRODID:-//Athénée Royal de Jodoigne - ECPv6.10.1.1//NONSGML v1.0//EN
CALSCALE:GREGORIAN
METHOD:PUBLISH
X-ORIGINAL-URL:https://arjodoigne.be
X-WR-CALDESC:Events for Athénée Royal de Jodoigne
REFRESH-INTERVAL;VALUE=DURATION:PT1H
X-Robots-Tag:noindex
X-PUBLISHED-TTL:PT1H
BEGIN:VTIMEZONE
TZID:UTC
BEGIN:STANDARD
TZOFFSETFROM:+0000
TZOFFSETTO:+0000
TZNAME:UTC
DTSTART:20250101T000000
END:STANDARD
END:VTIMEZONE
BEGIN:VEVENT
DTSTART;TZID=UTC:20250124T133000
DTEND;TZID=UTC:20250124T160000
DTSTAMP:20260419T182727
CREATED:20241128T091015Z
LAST-MODIFIED:20241128T103617Z
UID:6273-1737725400-1737734400@arjodoigne.be
SUMMARY:Théatre "Le prince du Danemark"
DESCRIPTION:4A\, 4C\, 4TQG\, 4P\, 5P\, 6P \nLE PRINCE DE DANEMARK \nC’EST\nUNE COMEDIE FAMILIALE JOUEE EN EXTERIEUR OU DANS LES SALLES \nAccessible à tous\nTechniquement autonome\nPeu coûteuse et Reconnue en Art et Vie\nUn spectacle couteau suisse pour les festivals d’été ou les soirées d’hiver… \nET C’EST AUSSI\nUNE ANIMATION/SPECTACLE INTERACTIVE QUE NOUS JOUONS DANS LES CLASSES\n(tous réseaux\, toutes options\, à partir de la 4e secondaire) \nConception\, mise en scène et jeu : Emmanuel Dekoninck\navec Gaël Soudron\, Frédéric Nyssen ou Loïc Dubuisson (2 comédiens) \nAvec trois projecteurs\, un rideau et quelques accessoires\, deux personnages clownesques cherchent désespérément un sens à la vie… et au théâtre !\nEn 50 minutes\, ils vont partager\, jouer\, questionner le théâtre avec l’aide de Shakespeare et du jeune Hamlet\, ce « nouvel » homme brutalement confronté aux réalités du monde\, jouant la folie pour connaître le vrai.\nEn interrogeant l’art\, nos fictions et nos rêves\, cette comédie burlesque amène son public à vivre de manière ludique ce que le théâtre a d’unique à lui offrir. \nNous voulons faire de cet échange une histoire\, une narration\, privilégier le rire et le plaisir de la rencontre.\nParce qu’on oublie trop souvent le plaisir dans l’approche du théâtre !
URL:https://arjodoigne.be/evenement/theatre-le-prince-du-danemark/
LOCATION:Athénée Royal de Jodoigne\, chaussée de Hannut 61\, Jodoigne\, 1370\, Belgium
CATEGORIES:Agenda
ATTACH;FMTTYPE=image/jpeg:https://arjodoigne.be/wp-content/uploads/2024/11/ok-7-241x363-custom.jpg
END:VEVENT
END:VCALENDAR