BEGIN:VCALENDAR
VERSION:2.0
PRODID:-//Athénée Royal de Jodoigne - ECPv6.10.1.1//NONSGML v1.0//EN
CALSCALE:GREGORIAN
METHOD:PUBLISH
X-ORIGINAL-URL:https://arjodoigne.be
X-WR-CALDESC:Events for Athénée Royal de Jodoigne
REFRESH-INTERVAL;VALUE=DURATION:PT1H
X-Robots-Tag:noindex
X-PUBLISHED-TTL:PT1H
BEGIN:VTIMEZONE
TZID:UTC
BEGIN:STANDARD
TZOFFSETFROM:+0000
TZOFFSETTO:+0000
TZNAME:UTC
DTSTART:20240101T000000
END:STANDARD
END:VTIMEZONE
BEGIN:VEVENT
DTSTART;VALUE=DATE:20241223
DTEND;VALUE=DATE:20250106
DTSTAMP:20260421T035008
CREATED:20241127T085825Z
LAST-MODIFIED:20241127T085825Z
UID:6232-1734912000-1736121599@arjodoigne.be
SUMMARY:Congé d'hiver
DESCRIPTION:
URL:https://arjodoigne.be/evenement/conge-dhiver/
CATEGORIES:Congés scolaires
END:VEVENT
END:VCALENDAR