BEGIN:VCALENDAR
VERSION:2.0
PRODID:-//Athénée Royal de Jodoigne - ECPv6.10.1.1//NONSGML v1.0//EN
CALSCALE:GREGORIAN
METHOD:PUBLISH
X-WR-CALNAME:Athénée Royal de Jodoigne
X-ORIGINAL-URL:https://arjodoigne.be
X-WR-CALDESC:Events for Athénée Royal de Jodoigne
REFRESH-INTERVAL;VALUE=DURATION:PT1H
X-Robots-Tag:noindex
X-PUBLISHED-TTL:PT1H
BEGIN:VTIMEZONE
TZID:UTC
BEGIN:STANDARD
TZOFFSETFROM:+0000
TZOFFSETTO:+0000
TZNAME:UTC
DTSTART:20240101T000000
END:STANDARD
END:VTIMEZONE
BEGIN:VEVENT
DTSTART;TZID=UTC:20241218T081000
DTEND;TZID=UTC:20241218T133000
DTSTAMP:20260421T115127
CREATED:20241127T094824Z
LAST-MODIFIED:20241127T094824Z
UID:6248-1734509400-1734528600@arjodoigne.be
SUMMARY:Expo Old Masters\, 5G-6G Imm
DESCRIPTION:Elèves de 5G Imm et 6G Imm.\nExpo Old masters. Voyage en train SNCB.\n 
URL:https://arjodoigne.be/evenement/expo-old-masters-5g-6g-imm/
CATEGORIES:Agenda
END:VEVENT
END:VCALENDAR