BEGIN:VCALENDAR
VERSION:2.0
PRODID:-//Athénée Royal de Jodoigne - ECPv6.10.1.1//NONSGML v1.0//EN
CALSCALE:GREGORIAN
METHOD:PUBLISH
X-ORIGINAL-URL:https://arjodoigne.be
X-WR-CALDESC:Events for Athénée Royal de Jodoigne
REFRESH-INTERVAL;VALUE=DURATION:PT1H
X-Robots-Tag:noindex
X-PUBLISHED-TTL:PT1H
BEGIN:VTIMEZONE
TZID:UTC
BEGIN:STANDARD
TZOFFSETFROM:+0000
TZOFFSETTO:+0000
TZNAME:UTC
DTSTART:20240101T000000
END:STANDARD
END:VTIMEZONE
BEGIN:VEVENT
DTSTART;TZID=UTC:20241128T160000
DTEND;TZID=UTC:20241128T190000
DTSTAMP:20260421T115430
CREATED:20241122T100243Z
LAST-MODIFIED:20241122T142055Z
UID:6187-1732809600-1732820400@arjodoigne.be
SUMMARY:Marché de Noël !
DESCRIPTION:Ce jeudi 28 novembre\, ne manquez pas le Marché de Noël organisé par les sections services sociaux\, carrosserie et menuiserie!\n\n\nNous vous attendons nombreux!
URL:https://arjodoigne.be/evenement/marche-de-noel/
CATEGORIES:Agenda
END:VEVENT
BEGIN:VEVENT
DTSTART;TZID=UTC:20241128T160000
DTEND;TZID=UTC:20241128T190000
DTSTAMP:20260421T115430
CREATED:20241122T113823Z
LAST-MODIFIED:20241122T122403Z
UID:6193-1732809600-1732820400@arjodoigne.be
SUMMARY:Réunion des parents
DESCRIPTION:Inscription Via Ecole en Ligne
URL:https://arjodoigne.be/evenement/reunion-des-parents/
CATEGORIES:Agenda
END:VEVENT
END:VCALENDAR