BEGIN:VCALENDAR
VERSION:2.0
PRODID:-//Athénée Royal de Jodoigne - ECPv6.10.1.1//NONSGML v1.0//EN
CALSCALE:GREGORIAN
METHOD:PUBLISH
X-ORIGINAL-URL:https://arjodoigne.be
X-WR-CALDESC:Events for Athénée Royal de Jodoigne
REFRESH-INTERVAL;VALUE=DURATION:PT1H
X-Robots-Tag:noindex
X-PUBLISHED-TTL:PT1H
BEGIN:VTIMEZONE
TZID:UTC
BEGIN:STANDARD
TZOFFSETFROM:+0000
TZOFFSETTO:+0000
TZNAME:UTC
DTSTART:20240101T000000
END:STANDARD
END:VTIMEZONE
BEGIN:VEVENT
DTSTART;VALUE=DATE:20241111
DTEND;VALUE=DATE:20241112
DTSTAMP:20260421T144328
CREATED:20241127T090432Z
LAST-MODIFIED:20241127T090432Z
UID:6238-1731283200-1731369599@arjodoigne.be
SUMMARY:Jour de l'Armistice
DESCRIPTION:
URL:https://arjodoigne.be/evenement/jour-de-larmistice/
CATEGORIES:Congés scolaires
END:VEVENT
END:VCALENDAR